BEGIN:VCALENDAR
VERSION:2.0
PRODID:-//Bonsall Village Hall - ECPv6.15.20//NONSGML v1.0//EN
CALSCALE:GREGORIAN
METHOD:PUBLISH
X-WR-CALNAME:Bonsall Village Hall
X-ORIGINAL-URL:https://bonsallvillagehall.org.uk
X-WR-CALDESC:Events for Bonsall Village Hall
REFRESH-INTERVAL;VALUE=DURATION:PT1H
X-Robots-Tag:noindex
X-PUBLISHED-TTL:PT1H
BEGIN:VTIMEZONE
TZID:Europe/London
BEGIN:DAYLIGHT
TZOFFSETFROM:+0000
TZOFFSETTO:+0100
TZNAME:BST
DTSTART:20250330T010000
END:DAYLIGHT
BEGIN:STANDARD
TZOFFSETFROM:+0100
TZOFFSETTO:+0000
TZNAME:GMT
DTSTART:20251026T010000
END:STANDARD
BEGIN:DAYLIGHT
TZOFFSETFROM:+0000
TZOFFSETTO:+0100
TZNAME:BST
DTSTART:20260329T010000
END:DAYLIGHT
BEGIN:STANDARD
TZOFFSETFROM:+0100
TZOFFSETTO:+0000
TZNAME:GMT
DTSTART:20261025T010000
END:STANDARD
BEGIN:DAYLIGHT
TZOFFSETFROM:+0000
TZOFFSETTO:+0100
TZNAME:BST
DTSTART:20270328T010000
END:DAYLIGHT
BEGIN:STANDARD
TZOFFSETFROM:+0100
TZOFFSETTO:+0000
TZNAME:GMT
DTSTART:20271031T010000
END:STANDARD
END:VTIMEZONE
BEGIN:VEVENT
DTSTART;TZID=Europe/London:20260707T080000
DTEND;TZID=Europe/London:20260707T120000
DTSTAMP:20260426T053239
CREATED:20260401T090513Z
LAST-MODIFIED:20260401T090513Z
UID:3324-1783411200-1783425600@bonsallvillagehall.org.uk
SUMMARY:Art Group
DESCRIPTION:
URL:https://bonsallvillagehall.org.uk/event/art-group-96/
LOCATION:Downstairs
END:VEVENT
BEGIN:VEVENT
DTSTART;TZID=Europe/London:20260711T180000
DTEND;TZID=Europe/London:20260711T220000
DTSTAMP:20260426T053239
CREATED:20260401T085702Z
LAST-MODIFIED:20260401T085702Z
UID:3298-1783792800-1783807200@bonsallvillagehall.org.uk
SUMMARY:Reserved for possible fundraiser
DESCRIPTION:
URL:https://bonsallvillagehall.org.uk/event/reserved-for-possible-fundraiser/
LOCATION:Both floors
END:VEVENT
BEGIN:VEVENT
DTSTART;TZID=Europe/London:20260713T190000
DTEND;TZID=Europe/London:20260713T210000
DTSTAMP:20260426T053239
CREATED:20260119T134403Z
LAST-MODIFIED:20260119T134403Z
UID:3136-1783969200-1783976400@bonsallvillagehall.org.uk
SUMMARY:Sewing Group
DESCRIPTION:
URL:https://bonsallvillagehall.org.uk/event/sewing-group-16/
LOCATION:Downstairs
END:VEVENT
BEGIN:VEVENT
DTSTART;TZID=Europe/London:20260714T080000
DTEND;TZID=Europe/London:20260714T120000
DTSTAMP:20260426T053239
CREATED:20260401T090540Z
LAST-MODIFIED:20260401T090540Z
UID:3326-1784016000-1784030400@bonsallvillagehall.org.uk
SUMMARY:Art Group
DESCRIPTION:
URL:https://bonsallvillagehall.org.uk/event/art-group-97/
LOCATION:Downstairs
END:VEVENT
BEGIN:VEVENT
DTSTART;TZID=Europe/London:20260714T180000
DTEND;TZID=Europe/London:20260714T220000
DTSTAMP:20260426T053239
CREATED:20260207T143239Z
LAST-MODIFIED:20260207T143239Z
UID:3241-1784052000-1784066400@bonsallvillagehall.org.uk
SUMMARY:Bonsall Energy Group
DESCRIPTION:
URL:https://bonsallvillagehall.org.uk/event/bonsall-energy-group-33/
LOCATION:Downstairs
END:VEVENT
BEGIN:VEVENT
DTSTART;TZID=Europe/London:20260715T100000
DTEND;TZID=Europe/London:20260715T150000
DTSTAMP:20260426T053239
CREATED:20251119T173032Z
LAST-MODIFIED:20251119T173032Z
UID:2793-1784109600-1784127600@bonsallvillagehall.org.uk
SUMMARY:Luncheon Club
DESCRIPTION:
URL:https://bonsallvillagehall.org.uk/event/luncheon-club-20/
LOCATION:Downstairs
END:VEVENT
BEGIN:VEVENT
DTSTART;TZID=Europe/London:20260718T120000
DTEND;TZID=Europe/London:20260718T230000
DTSTAMP:20260426T053239
CREATED:20250915T093915Z
LAST-MODIFIED:20250915T093916Z
UID:2627-1784376000-1784415600@bonsallvillagehall.org.uk
SUMMARY:Private Party
DESCRIPTION:
URL:https://bonsallvillagehall.org.uk/event/private-party-39/
LOCATION:Downstairs
END:VEVENT
END:VCALENDAR