BEGIN:VCALENDAR
VERSION:2.0
PRODID:-//Bonsall Village Hall - ECPv6.15.20//NONSGML v1.0//EN
CALSCALE:GREGORIAN
METHOD:PUBLISH
X-ORIGINAL-URL:https://bonsallvillagehall.org.uk
X-WR-CALDESC:Events for Bonsall Village Hall
REFRESH-INTERVAL;VALUE=DURATION:PT1H
X-Robots-Tag:noindex
X-PUBLISHED-TTL:PT1H
BEGIN:VTIMEZONE
TZID:Europe/London
BEGIN:DAYLIGHT
TZOFFSETFROM:+0000
TZOFFSETTO:+0100
TZNAME:BST
DTSTART:20250330T010000
END:DAYLIGHT
BEGIN:STANDARD
TZOFFSETFROM:+0100
TZOFFSETTO:+0000
TZNAME:GMT
DTSTART:20251026T010000
END:STANDARD
BEGIN:DAYLIGHT
TZOFFSETFROM:+0000
TZOFFSETTO:+0100
TZNAME:BST
DTSTART:20260329T010000
END:DAYLIGHT
BEGIN:STANDARD
TZOFFSETFROM:+0100
TZOFFSETTO:+0000
TZNAME:GMT
DTSTART:20261025T010000
END:STANDARD
BEGIN:DAYLIGHT
TZOFFSETFROM:+0000
TZOFFSETTO:+0100
TZNAME:BST
DTSTART:20270328T010000
END:DAYLIGHT
BEGIN:STANDARD
TZOFFSETFROM:+0100
TZOFFSETTO:+0000
TZNAME:GMT
DTSTART:20271031T010000
END:STANDARD
END:VTIMEZONE
BEGIN:VEVENT
DTSTART;TZID=Europe/London:20260602T080000
DTEND;TZID=Europe/London:20260602T120000
DTSTAMP:20260426T034628
CREATED:20260401T090226Z
LAST-MODIFIED:20260401T090226Z
UID:3314-1780387200-1780401600@bonsallvillagehall.org.uk
SUMMARY:Art Group
DESCRIPTION:
URL:https://bonsallvillagehall.org.uk/event/art-group-91/
LOCATION:Downstairs
END:VEVENT
BEGIN:VEVENT
DTSTART;TZID=Europe/London:20260608T190000
DTEND;TZID=Europe/London:20260608T210000
DTSTAMP:20260426T034628
CREATED:20260119T134321Z
LAST-MODIFIED:20260119T134321Z
UID:3134-1780945200-1780952400@bonsallvillagehall.org.uk
SUMMARY:Sewing Group
DESCRIPTION:
URL:https://bonsallvillagehall.org.uk/event/sewing-group-15/
LOCATION:Downstairs
END:VEVENT
BEGIN:VEVENT
DTSTART;TZID=Europe/London:20260609T080000
DTEND;TZID=Europe/London:20260609T120000
DTSTAMP:20260426T034628
CREATED:20260401T090256Z
LAST-MODIFIED:20260401T090256Z
UID:3316-1780992000-1781006400@bonsallvillagehall.org.uk
SUMMARY:Art Group
DESCRIPTION:
URL:https://bonsallvillagehall.org.uk/event/art-group-92/
LOCATION:Downstairs
END:VEVENT
BEGIN:VEVENT
DTSTART;TZID=Europe/London:20260609T180000
DTEND;TZID=Europe/London:20260609T220000
DTSTAMP:20260426T034628
CREATED:20260207T143200Z
LAST-MODIFIED:20260207T143200Z
UID:3239-1781028000-1781042400@bonsallvillagehall.org.uk
SUMMARY:Bonsall Energy Group
DESCRIPTION:
URL:https://bonsallvillagehall.org.uk/event/bonsall-energy-group-32/
LOCATION:Downstairs
END:VEVENT
BEGIN:VEVENT
DTSTART;TZID=Europe/London:20260616T080000
DTEND;TZID=Europe/London:20260616T120000
DTSTAMP:20260426T034628
CREATED:20260401T090326Z
LAST-MODIFIED:20260401T090326Z
UID:3318-1781596800-1781611200@bonsallvillagehall.org.uk
SUMMARY:Art Group
DESCRIPTION:
URL:https://bonsallvillagehall.org.uk/event/art-group-93/
LOCATION:Downstairs
END:VEVENT
BEGIN:VEVENT
DTSTART;TZID=Europe/London:20260617T100000
DTEND;TZID=Europe/London:20260617T150000
DTSTAMP:20260426T034628
CREATED:20251119T172946Z
LAST-MODIFIED:20251119T172946Z
UID:2791-1781690400-1781708400@bonsallvillagehall.org.uk
SUMMARY:Luncheon Club
DESCRIPTION:
URL:https://bonsallvillagehall.org.uk/event/luncheon-club-19/
LOCATION:Downstairs
END:VEVENT
BEGIN:VEVENT
DTSTART;TZID=Europe/London:20260619T170000
DTEND;TZID=Europe/London:20260619T230000
DTSTAMP:20260426T034628
CREATED:20260402T155822Z
LAST-MODIFIED:20260402T155822Z
UID:3345-1781888400-1781910000@bonsallvillagehall.org.uk
SUMMARY:Arts Trail
DESCRIPTION:
URL:https://bonsallvillagehall.org.uk/event/arts-trail-5/
LOCATION:Both floors
END:VEVENT
BEGIN:VEVENT
DTSTART;TZID=Europe/London:20260620T000000
DTEND;TZID=Europe/London:20260621T235959
DTSTAMP:20260426T034628
CREATED:20260401T092217Z
LAST-MODIFIED:20260401T092217Z
UID:3342-1781913600-1782086399@bonsallvillagehall.org.uk
SUMMARY:Arts Trail
DESCRIPTION:
URL:https://bonsallvillagehall.org.uk/event/arts-trail-4/
LOCATION:Both floors
END:VEVENT
BEGIN:VEVENT
DTSTART;TZID=Europe/London:20260623T080000
DTEND;TZID=Europe/London:20260623T120000
DTSTAMP:20260426T034628
CREATED:20260401T090357Z
LAST-MODIFIED:20260401T090357Z
UID:3320-1782201600-1782216000@bonsallvillagehall.org.uk
SUMMARY:Art Group
DESCRIPTION:
URL:https://bonsallvillagehall.org.uk/event/art-group-94/
LOCATION:Downstairs
END:VEVENT
BEGIN:VEVENT
DTSTART;TZID=Europe/London:20260630T080000
DTEND;TZID=Europe/London:20260630T120000
DTSTAMP:20260426T034628
CREATED:20260401T090426Z
LAST-MODIFIED:20260401T090426Z
UID:3322-1782806400-1782820800@bonsallvillagehall.org.uk
SUMMARY:Art Group
DESCRIPTION:
URL:https://bonsallvillagehall.org.uk/event/art-group-95/
LOCATION:Downstairs
END:VEVENT
END:VCALENDAR