BEGIN:VCALENDAR
VERSION:2.0
PRODID:-//Bonsall Village Hall - ECPv6.15.20//NONSGML v1.0//EN
CALSCALE:GREGORIAN
METHOD:PUBLISH
X-WR-CALNAME:Bonsall Village Hall
X-ORIGINAL-URL:https://bonsallvillagehall.org.uk
X-WR-CALDESC:Events for Bonsall Village Hall
REFRESH-INTERVAL;VALUE=DURATION:PT1H
X-Robots-Tag:noindex
X-PUBLISHED-TTL:PT1H
BEGIN:VTIMEZONE
TZID:Europe/London
BEGIN:DAYLIGHT
TZOFFSETFROM:+0000
TZOFFSETTO:+0100
TZNAME:BST
DTSTART:20250330T010000
END:DAYLIGHT
BEGIN:STANDARD
TZOFFSETFROM:+0100
TZOFFSETTO:+0000
TZNAME:GMT
DTSTART:20251026T010000
END:STANDARD
BEGIN:DAYLIGHT
TZOFFSETFROM:+0000
TZOFFSETTO:+0100
TZNAME:BST
DTSTART:20260329T010000
END:DAYLIGHT
BEGIN:STANDARD
TZOFFSETFROM:+0100
TZOFFSETTO:+0000
TZNAME:GMT
DTSTART:20261025T010000
END:STANDARD
BEGIN:DAYLIGHT
TZOFFSETFROM:+0000
TZOFFSETTO:+0100
TZNAME:BST
DTSTART:20270328T010000
END:DAYLIGHT
BEGIN:STANDARD
TZOFFSETFROM:+0100
TZOFFSETTO:+0000
TZNAME:GMT
DTSTART:20271031T010000
END:STANDARD
END:VTIMEZONE
BEGIN:VEVENT
DTSTART;TZID=Europe/London:20260505T080000
DTEND;TZID=Europe/London:20260505T120000
DTSTAMP:20260426T015905
CREATED:20260401T090029Z
LAST-MODIFIED:20260401T090029Z
UID:3306-1777968000-1777982400@bonsallvillagehall.org.uk
SUMMARY:Art Group
DESCRIPTION:
URL:https://bonsallvillagehall.org.uk/event/art-group-87/
LOCATION:Downstairs
END:VEVENT
BEGIN:VEVENT
DTSTART;TZID=Europe/London:20260506T180000
DTEND;TZID=Europe/London:20260506T210000
DTSTAMP:20260426T015905
CREATED:20260401T090943Z
LAST-MODIFIED:20260401T090943Z
UID:3334-1778090400-1778101200@bonsallvillagehall.org.uk
SUMMARY:Yoga
DESCRIPTION:
URL:https://bonsallvillagehall.org.uk/event/yoga-69/
LOCATION:Downstairs
END:VEVENT
BEGIN:VEVENT
DTSTART;TZID=Europe/London:20260511T190000
DTEND;TZID=Europe/London:20260511T210000
DTSTAMP:20260426T015905
CREATED:20260119T134238Z
LAST-MODIFIED:20260119T134238Z
UID:3132-1778526000-1778533200@bonsallvillagehall.org.uk
SUMMARY:Sewing Group
DESCRIPTION:
URL:https://bonsallvillagehall.org.uk/event/sewing-group-14/
LOCATION:Downstairs
END:VEVENT
BEGIN:VEVENT
DTSTART;TZID=Europe/London:20260512T080000
DTEND;TZID=Europe/London:20260512T120000
DTSTAMP:20260426T015905
CREATED:20260401T090056Z
LAST-MODIFIED:20260401T090056Z
UID:3308-1778572800-1778587200@bonsallvillagehall.org.uk
SUMMARY:Art Group
DESCRIPTION:
URL:https://bonsallvillagehall.org.uk/event/art-group-88/
LOCATION:Downstairs
END:VEVENT
BEGIN:VEVENT
DTSTART;TZID=Europe/London:20260512T180000
DTEND;TZID=Europe/London:20260512T220000
DTSTAMP:20260426T015905
CREATED:20260207T143119Z
LAST-MODIFIED:20260207T143119Z
UID:3237-1778608800-1778623200@bonsallvillagehall.org.uk
SUMMARY:Bonsall Energy Group
DESCRIPTION:
URL:https://bonsallvillagehall.org.uk/event/bonsall-energy-group-31/
LOCATION:Downstairs
END:VEVENT
BEGIN:VEVENT
DTSTART;TZID=Europe/London:20260513T180000
DTEND;TZID=Europe/London:20260513T210000
DTSTAMP:20260426T015905
CREATED:20260401T091031Z
LAST-MODIFIED:20260401T091031Z
UID:3336-1778695200-1778706000@bonsallvillagehall.org.uk
SUMMARY:Yoga
DESCRIPTION:
URL:https://bonsallvillagehall.org.uk/event/yoga-70/
LOCATION:Downstairs
END:VEVENT
BEGIN:VEVENT
DTSTART;TZID=Europe/London:20260519T080000
DTEND;TZID=Europe/London:20260519T120000
DTSTAMP:20260426T015905
CREATED:20260401T090122Z
LAST-MODIFIED:20260401T090122Z
UID:3310-1779177600-1779192000@bonsallvillagehall.org.uk
SUMMARY:Art Group
DESCRIPTION:
URL:https://bonsallvillagehall.org.uk/event/art-group-89/
LOCATION:Downstairs
END:VEVENT
BEGIN:VEVENT
DTSTART;TZID=Europe/London:20260519T190000
DTEND;TZID=Europe/London:20260519T220000
DTSTAMP:20260426T015905
CREATED:20250508T123933Z
LAST-MODIFIED:20250508T124023Z
UID:2540-1779217200-1779228000@bonsallvillagehall.org.uk
SUMMARY:Bonsall Parish Council Annual Parish Meeting
DESCRIPTION:
URL:https://bonsallvillagehall.org.uk/event/bonsall-parish-council-27/
LOCATION:Downstairs
END:VEVENT
BEGIN:VEVENT
DTSTART;TZID=Europe/London:20260520T100000
DTEND;TZID=Europe/London:20260520T150000
DTSTAMP:20260426T015905
CREATED:20251119T172905Z
LAST-MODIFIED:20251119T172905Z
UID:2789-1779271200-1779289200@bonsallvillagehall.org.uk
SUMMARY:Luncheon Club
DESCRIPTION:
URL:https://bonsallvillagehall.org.uk/event/luncheon-club-18/
LOCATION:Downstairs
END:VEVENT
BEGIN:VEVENT
DTSTART;TZID=Europe/London:20260526T080000
DTEND;TZID=Europe/London:20260526T120000
DTSTAMP:20260426T015905
CREATED:20260401T090158Z
LAST-MODIFIED:20260401T090158Z
UID:3312-1779782400-1779796800@bonsallvillagehall.org.uk
SUMMARY:Art Group
DESCRIPTION:
URL:https://bonsallvillagehall.org.uk/event/art-group-90/
LOCATION:Downstairs
END:VEVENT
END:VCALENDAR