BEGIN:VCALENDAR
VERSION:2.0
PRODID:-//Bonsall Village Hall - ECPv6.15.20//NONSGML v1.0//EN
CALSCALE:GREGORIAN
METHOD:PUBLISH
X-WR-CALNAME:Bonsall Village Hall
X-ORIGINAL-URL:https://bonsallvillagehall.org.uk
X-WR-CALDESC:Events for Bonsall Village Hall
REFRESH-INTERVAL;VALUE=DURATION:PT1H
X-Robots-Tag:noindex
X-PUBLISHED-TTL:PT1H
BEGIN:VTIMEZONE
TZID:Europe/London
BEGIN:DAYLIGHT
TZOFFSETFROM:+0000
TZOFFSETTO:+0100
TZNAME:BST
DTSTART:20250330T010000
END:DAYLIGHT
BEGIN:STANDARD
TZOFFSETFROM:+0100
TZOFFSETTO:+0000
TZNAME:GMT
DTSTART:20251026T010000
END:STANDARD
BEGIN:DAYLIGHT
TZOFFSETFROM:+0000
TZOFFSETTO:+0100
TZNAME:BST
DTSTART:20260329T010000
END:DAYLIGHT
BEGIN:STANDARD
TZOFFSETFROM:+0100
TZOFFSETTO:+0000
TZNAME:GMT
DTSTART:20261025T010000
END:STANDARD
BEGIN:DAYLIGHT
TZOFFSETFROM:+0000
TZOFFSETTO:+0100
TZNAME:BST
DTSTART:20270328T010000
END:DAYLIGHT
BEGIN:STANDARD
TZOFFSETFROM:+0100
TZOFFSETTO:+0000
TZNAME:GMT
DTSTART:20271031T010000
END:STANDARD
END:VTIMEZONE
BEGIN:VEVENT
DTSTART;TZID=Europe/London:20260202T180000
DTEND;TZID=Europe/London:20260202T220000
DTSTAMP:20260425T181116
CREATED:20260102T130305Z
LAST-MODIFIED:20260102T130305Z
UID:2972-1770055200-1770069600@bonsallvillagehall.org.uk
SUMMARY:Leavers Group
DESCRIPTION:
URL:https://bonsallvillagehall.org.uk/event/leavers-group-18/
LOCATION:Downstairs
END:VEVENT
BEGIN:VEVENT
DTSTART;TZID=Europe/London:20260203T080000
DTEND;TZID=Europe/London:20260203T120000
DTSTAMP:20260425T181116
CREATED:20260107T151626Z
LAST-MODIFIED:20260107T151626Z
UID:3002-1770105600-1770120000@bonsallvillagehall.org.uk
SUMMARY:Art Group
DESCRIPTION:
URL:https://bonsallvillagehall.org.uk/event/art-group-77/
LOCATION:Downstairs
END:VEVENT
BEGIN:VEVENT
DTSTART;TZID=Europe/London:20260204T173000
DTEND;TZID=Europe/London:20260204T200000
DTSTAMP:20260425T181116
CREATED:20260103T180526Z
LAST-MODIFIED:20260103T180526Z
UID:2985-1770226200-1770235200@bonsallvillagehall.org.uk
SUMMARY:Yoga
DESCRIPTION:
URL:https://bonsallvillagehall.org.uk/event/yoga-64/
LOCATION:Downstairs
END:VEVENT
BEGIN:VEVENT
DTSTART;TZID=Europe/London:20260205T130000
DTEND;TZID=Europe/London:20260205T160000
DTSTAMP:20260425T181116
CREATED:20251120T180315Z
LAST-MODIFIED:20251120T180315Z
UID:2832-1770296400-1770307200@bonsallvillagehall.org.uk
SUMMARY:Warm and Welcome Session
DESCRIPTION:
URL:https://bonsallvillagehall.org.uk/event/warm-and-welcome-session-8/
LOCATION:Both floors
END:VEVENT
BEGIN:VEVENT
DTSTART;TZID=Europe/London:20260207T080000
DTEND;TZID=Europe/London:20260207T120000
DTSTAMP:20260425T181116
CREATED:20260107T151310Z
LAST-MODIFIED:20260119T133243Z
UID:2992-1770451200-1770465600@bonsallvillagehall.org.uk
SUMMARY:Private Party
DESCRIPTION:
URL:https://bonsallvillagehall.org.uk/event/private-party-41/
LOCATION:Downstairs
END:VEVENT
BEGIN:VEVENT
DTSTART;TZID=Europe/London:20260209T190000
DTEND;TZID=Europe/London:20260209T210000
DTSTAMP:20260425T181116
CREATED:20260119T134039Z
LAST-MODIFIED:20260119T134039Z
UID:3126-1770663600-1770670800@bonsallvillagehall.org.uk
SUMMARY:Sewing Group
DESCRIPTION:
URL:https://bonsallvillagehall.org.uk/event/sewing-group-11/
LOCATION:Downstairs
END:VEVENT
BEGIN:VEVENT
DTSTART;TZID=Europe/London:20260210T080000
DTEND;TZID=Europe/London:20260210T120000
DTSTAMP:20260425T181116
CREATED:20260107T151709Z
LAST-MODIFIED:20260107T151709Z
UID:3004-1770710400-1770724800@bonsallvillagehall.org.uk
SUMMARY:Art Group
DESCRIPTION:
URL:https://bonsallvillagehall.org.uk/event/art-group-78/
LOCATION:Downstairs
END:VEVENT
BEGIN:VEVENT
DTSTART;TZID=Europe/London:20260210T180000
DTEND;TZID=Europe/London:20260210T220000
DTSTAMP:20260425T181116
CREATED:20260207T142855Z
LAST-MODIFIED:20260207T142855Z
UID:3229-1770746400-1770760800@bonsallvillagehall.org.uk
SUMMARY:Bonsall Energy Group
DESCRIPTION:
URL:https://bonsallvillagehall.org.uk/event/bonsall-energy-group-27/
LOCATION:Downstairs
END:VEVENT
BEGIN:VEVENT
DTSTART;TZID=Europe/London:20260211T173000
DTEND;TZID=Europe/London:20260211T200000
DTSTAMP:20260425T181116
CREATED:20260103T180609Z
LAST-MODIFIED:20260103T180609Z
UID:2987-1770831000-1770840000@bonsallvillagehall.org.uk
SUMMARY:Yoga
DESCRIPTION:
URL:https://bonsallvillagehall.org.uk/event/yoga-65/
LOCATION:Downstairs
END:VEVENT
BEGIN:VEVENT
DTSTART;TZID=Europe/London:20260212T130000
DTEND;TZID=Europe/London:20260212T160000
DTSTAMP:20260425T181116
CREATED:20251120T180415Z
LAST-MODIFIED:20251120T180415Z
UID:2834-1770901200-1770912000@bonsallvillagehall.org.uk
SUMMARY:Warm and Welcome Session
DESCRIPTION:
URL:https://bonsallvillagehall.org.uk/event/warm-and-welcome-session-9/
LOCATION:Both floors
END:VEVENT
BEGIN:VEVENT
DTSTART;TZID=Europe/London:20260216T000000
DTEND;TZID=Europe/London:20260221T235959
DTSTAMP:20260425T181116
CREATED:20260207T144320Z
LAST-MODIFIED:20260207T144320Z
UID:3253-1771200000-1771718399@bonsallvillagehall.org.uk
SUMMARY:No events - solar panel installation
DESCRIPTION:
URL:https://bonsallvillagehall.org.uk/event/no-events-solar-panel-installation/
LOCATION:Both floors
END:VEVENT
BEGIN:VEVENT
DTSTART;TZID=Europe/London:20260224T080000
DTEND;TZID=Europe/London:20260224T120000
DTSTAMP:20260425T181116
CREATED:20260107T151804Z
LAST-MODIFIED:20260107T151804Z
UID:3008-1771920000-1771934400@bonsallvillagehall.org.uk
SUMMARY:Art Group
DESCRIPTION:
URL:https://bonsallvillagehall.org.uk/event/art-group-80/
LOCATION:Downstairs
END:VEVENT
BEGIN:VEVENT
DTSTART;TZID=Europe/London:20260226T130000
DTEND;TZID=Europe/London:20260226T160000
DTSTAMP:20260425T181116
CREATED:20251120T180550Z
LAST-MODIFIED:20251120T180550Z
UID:2838-1772110800-1772121600@bonsallvillagehall.org.uk
SUMMARY:Warm and Welcome Session
DESCRIPTION:
URL:https://bonsallvillagehall.org.uk/event/warm-and-welcome-session-11/
LOCATION:Both floors
END:VEVENT
BEGIN:VEVENT
DTSTART;TZID=Europe/London:20260228T180000
DTEND;TZID=Europe/London:20260228T230000
DTSTAMP:20260425T181116
CREATED:20260119T133545Z
LAST-MODIFIED:20260119T133545Z
UID:3122-1772301600-1772319600@bonsallvillagehall.org.uk
SUMMARY:Bonsall Boat Club
DESCRIPTION:
URL:https://bonsallvillagehall.org.uk/event/bonsall-boat-club-3/
LOCATION:Downstairs
END:VEVENT
END:VCALENDAR