BEGIN:VCALENDAR
VERSION:2.0
PRODID:-//Bonsall Village Hall - ECPv6.15.20//NONSGML v1.0//EN
CALSCALE:GREGORIAN
METHOD:PUBLISH
X-WR-CALNAME:Bonsall Village Hall
X-ORIGINAL-URL:https://bonsallvillagehall.org.uk
X-WR-CALDESC:Events for Bonsall Village Hall
REFRESH-INTERVAL;VALUE=DURATION:PT1H
X-Robots-Tag:noindex
X-PUBLISHED-TTL:PT1H
BEGIN:VTIMEZONE
TZID:Europe/London
BEGIN:DAYLIGHT
TZOFFSETFROM:+0000
TZOFFSETTO:+0100
TZNAME:BST
DTSTART:20240331T010000
END:DAYLIGHT
BEGIN:STANDARD
TZOFFSETFROM:+0100
TZOFFSETTO:+0000
TZNAME:GMT
DTSTART:20241027T010000
END:STANDARD
BEGIN:DAYLIGHT
TZOFFSETFROM:+0000
TZOFFSETTO:+0100
TZNAME:BST
DTSTART:20250330T010000
END:DAYLIGHT
BEGIN:STANDARD
TZOFFSETFROM:+0100
TZOFFSETTO:+0000
TZNAME:GMT
DTSTART:20251026T010000
END:STANDARD
BEGIN:DAYLIGHT
TZOFFSETFROM:+0000
TZOFFSETTO:+0100
TZNAME:BST
DTSTART:20260329T010000
END:DAYLIGHT
BEGIN:STANDARD
TZOFFSETFROM:+0100
TZOFFSETTO:+0000
TZNAME:GMT
DTSTART:20261025T010000
END:STANDARD
END:VTIMEZONE
BEGIN:VEVENT
DTSTART;TZID=Europe/London:20250111T120000
DTEND;TZID=Europe/London:20250111T170000
DTSTAMP:20260425T023648
CREATED:20241118T104053Z
LAST-MODIFIED:20241118T104053Z
UID:2137-1736596800-1736614800@bonsallvillagehall.org.uk
SUMMARY:Private Party
DESCRIPTION:
URL:https://bonsallvillagehall.org.uk/event/private-party-24/
LOCATION:Downstairs
END:VEVENT
BEGIN:VEVENT
DTSTART;TZID=Europe/London:20250114T080000
DTEND;TZID=Europe/London:20250114T120000
DTSTAMP:20260425T023648
CREATED:20250109T155516Z
LAST-MODIFIED:20250109T155516Z
UID:2208-1736841600-1736856000@bonsallvillagehall.org.uk
SUMMARY:Art Club
DESCRIPTION:
URL:https://bonsallvillagehall.org.uk/event/art-club-29/
LOCATION:Downstairs
END:VEVENT
BEGIN:VEVENT
DTSTART;TZID=Europe/London:20250114T180000
DTEND;TZID=Europe/London:20250114T230000
DTSTAMP:20260425T023648
CREATED:20250114T200244Z
LAST-MODIFIED:20250114T200244Z
UID:2329-1736877600-1736895600@bonsallvillagehall.org.uk
SUMMARY:Bonsall Energy Group
DESCRIPTION:
URL:https://bonsallvillagehall.org.uk/event/bonsall-energy-group-11/
LOCATION:Downstairs
END:VEVENT
BEGIN:VEVENT
DTSTART;TZID=Europe/London:20250115T110000
DTEND;TZID=Europe/London:20250115T150000
DTSTAMP:20260425T023648
CREATED:20241219T191447Z
LAST-MODIFIED:20241219T191447Z
UID:2176-1736938800-1736953200@bonsallvillagehall.org.uk
SUMMARY:Luncheon Club
DESCRIPTION:
URL:https://bonsallvillagehall.org.uk/event/luncheon-club-2/
LOCATION:Downstairs
END:VEVENT
BEGIN:VEVENT
DTSTART;TZID=Europe/London:20250116T180000
DTEND;TZID=Europe/London:20250116T230000
DTSTAMP:20260425T023648
CREATED:20250112T203040Z
LAST-MODIFIED:20250112T203040Z
UID:2325-1737050400-1737068400@bonsallvillagehall.org.uk
SUMMARY:Private booking
DESCRIPTION:
URL:https://bonsallvillagehall.org.uk/event/private-booking-6/
LOCATION:Downstairs
END:VEVENT
BEGIN:VEVENT
DTSTART;TZID=Europe/London:20250120T180000
DTEND;TZID=Europe/London:20250120T220000
DTSTAMP:20260425T023648
CREATED:20241217T191059Z
LAST-MODIFIED:20241217T191059Z
UID:2170-1737396000-1737410400@bonsallvillagehall.org.uk
SUMMARY:QEGS Leavers Group
DESCRIPTION:
URL:https://bonsallvillagehall.org.uk/event/qegs-leavers-group-2/
LOCATION:Downstairs
END:VEVENT
BEGIN:VEVENT
DTSTART;TZID=Europe/London:20250121T080000
DTEND;TZID=Europe/London:20250121T120000
DTSTAMP:20260425T023648
CREATED:20250109T155625Z
LAST-MODIFIED:20250109T155640Z
UID:2211-1737446400-1737460800@bonsallvillagehall.org.uk
SUMMARY:Art Club
DESCRIPTION:
URL:https://bonsallvillagehall.org.uk/event/art-club-30/
LOCATION:Downstairs
END:VEVENT
BEGIN:VEVENT
DTSTART;TZID=Europe/London:20250121T193000
DTEND;TZID=Europe/London:20250121T213000
DTSTAMP:20260425T023648
CREATED:20240624T201515Z
LAST-MODIFIED:20240624T201515Z
UID:1938-1737487800-1737495000@bonsallvillagehall.org.uk
SUMMARY:Bonsall Parish Council Meeting
DESCRIPTION:
URL:https://bonsallvillagehall.org.uk/event/bonsall-parish-council-meeting-7/
LOCATION:Both floors
END:VEVENT
BEGIN:VEVENT
DTSTART;TZID=Europe/London:20250122T180000
DTEND;TZID=Europe/London:20250122T220000
DTSTAMP:20260425T023648
CREATED:20250122T110805Z
LAST-MODIFIED:20250122T110805Z
UID:2355-1737568800-1737583200@bonsallvillagehall.org.uk
SUMMARY:Private booking
DESCRIPTION:
URL:https://bonsallvillagehall.org.uk/event/private-booking-7/
LOCATION:Downstairs
END:VEVENT
BEGIN:VEVENT
DTSTART;TZID=Europe/London:20250123T180000
DTEND;TZID=Europe/London:20250123T220000
DTSTAMP:20260425T023648
CREATED:20250122T110842Z
LAST-MODIFIED:20250122T110842Z
UID:2358-1737655200-1737669600@bonsallvillagehall.org.uk
SUMMARY:Private booking
DESCRIPTION:
URL:https://bonsallvillagehall.org.uk/event/private-booking-8/
LOCATION:Downstairs
END:VEVENT
BEGIN:VEVENT
DTSTART;TZID=Europe/London:20250125T080000
DTEND;TZID=Europe/London:20250125T130000
DTSTAMP:20260425T023648
CREATED:20250106T191428Z
LAST-MODIFIED:20250106T191428Z
UID:2204-1737792000-1737810000@bonsallvillagehall.org.uk
SUMMARY:Private Party
DESCRIPTION:
URL:https://bonsallvillagehall.org.uk/event/private-party-25/
LOCATION:Downstairs
END:VEVENT
BEGIN:VEVENT
DTSTART;TZID=Europe/London:20250128T080000
DTEND;TZID=Europe/London:20250128T120000
DTSTAMP:20260425T023648
CREATED:20250109T155711Z
LAST-MODIFIED:20250109T155711Z
UID:2213-1738051200-1738065600@bonsallvillagehall.org.uk
SUMMARY:Art Club
DESCRIPTION:
URL:https://bonsallvillagehall.org.uk/event/art-club-31/
LOCATION:Downstairs
END:VEVENT
BEGIN:VEVENT
DTSTART;TZID=Europe/London:20250128T130000
DTEND;TZID=Europe/London:20250128T180000
DTSTAMP:20260425T023648
CREATED:20250127T204214Z
LAST-MODIFIED:20250127T204214Z
UID:2372-1738069200-1738087200@bonsallvillagehall.org.uk
SUMMARY:Art Project
DESCRIPTION:
URL:https://bonsallvillagehall.org.uk/event/art-project-2/
LOCATION:Both floors
END:VEVENT
BEGIN:VEVENT
DTSTART;TZID=Europe/London:20250129T180000
DTEND;TZID=Europe/London:20250129T230000
DTSTAMP:20260425T023648
CREATED:20250128T200233Z
LAST-MODIFIED:20250128T200233Z
UID:2380-1738173600-1738191600@bonsallvillagehall.org.uk
SUMMARY:Private booking
DESCRIPTION:
URL:https://bonsallvillagehall.org.uk/event/private-booking-10/
LOCATION:Downstairs
END:VEVENT
BEGIN:VEVENT
DTSTART;TZID=Europe/London:20250130T080000
DTEND;TZID=Europe/London:20250130T120000
DTSTAMP:20260425T023648
CREATED:20250127T204121Z
LAST-MODIFIED:20250127T204121Z
UID:2370-1738224000-1738238400@bonsallvillagehall.org.uk
SUMMARY:Art Project
DESCRIPTION:
URL:https://bonsallvillagehall.org.uk/event/art-project/
LOCATION:Both floors
END:VEVENT
BEGIN:VEVENT
DTSTART;TZID=Europe/London:20250130T180000
DTEND;TZID=Europe/London:20250130T230000
DTSTAMP:20260425T023648
CREATED:20250128T200325Z
LAST-MODIFIED:20250128T200325Z
UID:2382-1738260000-1738278000@bonsallvillagehall.org.uk
SUMMARY:Private booking
DESCRIPTION:
URL:https://bonsallvillagehall.org.uk/event/private-booking-11/
LOCATION:Downstairs
END:VEVENT
END:VCALENDAR