BEGIN:VCALENDAR
VERSION:2.0
PRODID:-//Bonsall Village Hall - ECPv6.15.20//NONSGML v1.0//EN
CALSCALE:GREGORIAN
METHOD:PUBLISH
X-WR-CALNAME:Bonsall Village Hall
X-ORIGINAL-URL:https://bonsallvillagehall.org.uk
X-WR-CALDESC:Events for Bonsall Village Hall
REFRESH-INTERVAL;VALUE=DURATION:PT1H
X-Robots-Tag:noindex
X-PUBLISHED-TTL:PT1H
BEGIN:VTIMEZONE
TZID:Europe/London
BEGIN:DAYLIGHT
TZOFFSETFROM:+0000
TZOFFSETTO:+0100
TZNAME:BST
DTSTART:20230326T010000
END:DAYLIGHT
BEGIN:STANDARD
TZOFFSETFROM:+0100
TZOFFSETTO:+0000
TZNAME:GMT
DTSTART:20231029T010000
END:STANDARD
BEGIN:DAYLIGHT
TZOFFSETFROM:+0000
TZOFFSETTO:+0100
TZNAME:BST
DTSTART:20240331T010000
END:DAYLIGHT
BEGIN:STANDARD
TZOFFSETFROM:+0100
TZOFFSETTO:+0000
TZNAME:GMT
DTSTART:20241027T010000
END:STANDARD
BEGIN:DAYLIGHT
TZOFFSETFROM:+0000
TZOFFSETTO:+0100
TZNAME:BST
DTSTART:20250330T010000
END:DAYLIGHT
BEGIN:STANDARD
TZOFFSETFROM:+0100
TZOFFSETTO:+0000
TZNAME:GMT
DTSTART:20251026T010000
END:STANDARD
END:VTIMEZONE
BEGIN:VEVENT
DTSTART;TZID=Europe/London:20240701T143000
DTEND;TZID=Europe/London:20240701T193000
DTSTAMP:20260425T123534
CREATED:20240509T153414Z
LAST-MODIFIED:20240624T202950Z
UID:1839-1719844200-1719862200@bonsallvillagehall.org.uk
SUMMARY:Private Party
DESCRIPTION:
URL:https://bonsallvillagehall.org.uk/event/private-party-21/
LOCATION:Downstairs
END:VEVENT
BEGIN:VEVENT
DTSTART;TZID=Europe/London:20240702T080000
DTEND;TZID=Europe/London:20240702T120000
DTSTAMP:20260425T123534
CREATED:20240625T150753Z
LAST-MODIFIED:20240625T150753Z
UID:1976-1719907200-1719921600@bonsallvillagehall.org.uk
SUMMARY:Art Group
DESCRIPTION:
URL:https://bonsallvillagehall.org.uk/event/art-group-70/
LOCATION:Downstairs
END:VEVENT
BEGIN:VEVENT
DTSTART;TZID=Europe/London:20240704T080000
DTEND;TZID=Europe/London:20240704T220000
DTSTAMP:20260425T123534
CREATED:20240522T190209Z
LAST-MODIFIED:20240522T190209Z
UID:1905-1720080000-1720130400@bonsallvillagehall.org.uk
SUMMARY:General Election
DESCRIPTION:
URL:https://bonsallvillagehall.org.uk/event/general-election/
LOCATION:Both floors
END:VEVENT
BEGIN:VEVENT
DTSTART;TZID=Europe/London:20240709T080000
DTEND;TZID=Europe/London:20240709T120000
DTSTAMP:20260425T123534
CREATED:20240625T150817Z
LAST-MODIFIED:20240625T150817Z
UID:1978-1720512000-1720526400@bonsallvillagehall.org.uk
SUMMARY:Art Group
DESCRIPTION:
URL:https://bonsallvillagehall.org.uk/event/art-group-71/
LOCATION:Downstairs
END:VEVENT
BEGIN:VEVENT
DTSTART;TZID=Europe/London:20240709T180000
DTEND;TZID=Europe/London:20240709T220000
DTSTAMP:20260425T123534
CREATED:20240608T203026Z
LAST-MODIFIED:20240608T203026Z
UID:1910-1720548000-1720562400@bonsallvillagehall.org.uk
SUMMARY:Bonsall Energy Group
DESCRIPTION:
URL:https://bonsallvillagehall.org.uk/event/bonsall-energy-group-4/
LOCATION:Both floors
END:VEVENT
BEGIN:VEVENT
DTSTART;TZID=Europe/London:20240713T080000
DTEND;TZID=Europe/London:20240713T120000
DTSTAMP:20260425T123534
CREATED:20240624T202334Z
LAST-MODIFIED:20240625T092614Z
UID:1953-1720857600-1720872000@bonsallvillagehall.org.uk
SUMMARY:Private party AW
DESCRIPTION:
URL:https://bonsallvillagehall.org.uk/event/private-party-31/
LOCATION:Both floors
END:VEVENT
BEGIN:VEVENT
DTSTART;TZID=Europe/London:20240713T140000
DTEND;TZID=Europe/London:20240713T163000
DTSTAMP:20260425T123534
CREATED:20240608T204909Z
LAST-MODIFIED:20240625T092728Z
UID:1921-1720879200-1720888200@bonsallvillagehall.org.uk
SUMMARY:Private party DP
DESCRIPTION:
URL:https://bonsallvillagehall.org.uk/event/private-party-28/
LOCATION:Both floors
END:VEVENT
BEGIN:VEVENT
DTSTART;TZID=Europe/London:20240714T080000
DTEND;TZID=Europe/London:20240714T170000
DTSTAMP:20260425T123534
CREATED:20240608T205004Z
LAST-MODIFIED:20240608T205004Z
UID:1923-1720944000-1720976400@bonsallvillagehall.org.uk
SUMMARY:Private party
DESCRIPTION:
URL:https://bonsallvillagehall.org.uk/event/private-party-29/
LOCATION:Both floors
END:VEVENT
BEGIN:VEVENT
DTSTART;TZID=Europe/London:20240716T080000
DTEND;TZID=Europe/London:20240716T120000
DTSTAMP:20260425T123534
CREATED:20240625T150840Z
LAST-MODIFIED:20240625T150840Z
UID:1980-1721116800-1721131200@bonsallvillagehall.org.uk
SUMMARY:Art Group
DESCRIPTION:
URL:https://bonsallvillagehall.org.uk/event/art-group-72/
LOCATION:Downstairs
END:VEVENT
BEGIN:VEVENT
DTSTART;TZID=Europe/London:20240716T193000
DTEND;TZID=Europe/London:20240716T213000
DTSTAMP:20260425T123534
CREATED:20240624T201111Z
LAST-MODIFIED:20240624T201111Z
UID:1928-1721158200-1721165400@bonsallvillagehall.org.uk
SUMMARY:Bonsall Parish Council Meeting
DESCRIPTION:
URL:https://bonsallvillagehall.org.uk/event/bonsall-parish-council-meeting-2/
LOCATION:Both floors
END:VEVENT
BEGIN:VEVENT
DTSTART;TZID=Europe/London:20240717T100000
DTEND;TZID=Europe/London:20240717T150000
DTSTAMP:20260425T123534
CREATED:20240103T135204Z
LAST-MODIFIED:20240103T135204Z
UID:1703-1721210400-1721228400@bonsallvillagehall.org.uk
SUMMARY:Lunch Club
DESCRIPTION:
URL:https://bonsallvillagehall.org.uk/event/lunch-club-22/
LOCATION:Downstairs
END:VEVENT
BEGIN:VEVENT
DTSTART;TZID=Europe/London:20240717T100000
DTEND;TZID=Europe/London:20240717T150000
DTSTAMP:20260425T123534
CREATED:20240103T135244Z
LAST-MODIFIED:20240103T135244Z
UID:1705-1721210400-1721228400@bonsallvillagehall.org.uk
SUMMARY:Lunch Club
DESCRIPTION:
URL:https://bonsallvillagehall.org.uk/event/lunch-club-23/
LOCATION:Downstairs
END:VEVENT
BEGIN:VEVENT
DTSTART;VALUE=DATE:20240718
DTEND;VALUE=DATE:20240719
DTSTAMP:20260425T123534
CREATED:20240624T203508Z
LAST-MODIFIED:20240624T203548Z
UID:1965-1721260800-1721347199@bonsallvillagehall.org.uk
SUMMARY:Repairs to ramp\, no bookings for village hall
DESCRIPTION:
URL:https://bonsallvillagehall.org.uk/event/repairs-to-ramp-no-bookings-for-village-hall/
LOCATION:Both floors
END:VEVENT
BEGIN:VEVENT
DTSTART;VALUE=DATE:20240719
DTEND;VALUE=DATE:20240720
DTSTAMP:20260425T123534
CREATED:20240624T203620Z
LAST-MODIFIED:20240624T203620Z
UID:1967-1721347200-1721433599@bonsallvillagehall.org.uk
SUMMARY:Repairs to ramp\, no bookings for village hall
DESCRIPTION:
URL:https://bonsallvillagehall.org.uk/event/repairs-to-ramp-no-bookings-for-village-hall-2/
LOCATION:Both floors
END:VEVENT
BEGIN:VEVENT
DTSTART;VALUE=DATE:20240720
DTEND;VALUE=DATE:20240721
DTSTAMP:20260425T123534
CREATED:20240624T203656Z
LAST-MODIFIED:20240624T203656Z
UID:1969-1721433600-1721519999@bonsallvillagehall.org.uk
SUMMARY:Repairs to ramp\, no bookings for village hall
DESCRIPTION:
URL:https://bonsallvillagehall.org.uk/event/repairs-to-ramp-no-bookings-for-village-hall-3/
LOCATION:Both floors
END:VEVENT
BEGIN:VEVENT
DTSTART;TZID=Europe/London:20240721T080000
DTEND;TZID=Europe/London:20240721T120000
DTSTAMP:20260425T123534
CREATED:20240624T202230Z
LAST-MODIFIED:20240624T202230Z
UID:1950-1721548800-1721563200@bonsallvillagehall.org.uk
SUMMARY:Private Party
DESCRIPTION:
URL:https://bonsallvillagehall.org.uk/event/private-party-30/
LOCATION:Both floors
END:VEVENT
BEGIN:VEVENT
DTSTART;TZID=Europe/London:20240722T180000
DTEND;TZID=Europe/London:20240722T230000
DTSTAMP:20260425T123534
CREATED:20240710T083732Z
LAST-MODIFIED:20240710T083732Z
UID:1985-1721671200-1721689200@bonsallvillagehall.org.uk
SUMMARY:Leavers Group
DESCRIPTION:
URL:https://bonsallvillagehall.org.uk/event/leavers-group-12/
LOCATION:Downstairs
END:VEVENT
BEGIN:VEVENT
DTSTART;TZID=Europe/London:20240725T080000
DTEND;TZID=Europe/London:20240725T170000
DTSTAMP:20260425T123534
CREATED:20240624T202454Z
LAST-MODIFIED:20240624T202454Z
UID:1955-1721894400-1721926800@bonsallvillagehall.org.uk
SUMMARY:Childrens dance group
DESCRIPTION:
URL:https://bonsallvillagehall.org.uk/event/childrens-dance-group-2/
LOCATION:Downstairs
END:VEVENT
END:VCALENDAR