BEGIN:VCALENDAR
VERSION:2.0
PRODID:-//Bonsall Village Hall - ECPv6.15.20//NONSGML v1.0//EN
CALSCALE:GREGORIAN
METHOD:PUBLISH
X-ORIGINAL-URL:https://bonsallvillagehall.org.uk
X-WR-CALDESC:Events for Bonsall Village Hall
REFRESH-INTERVAL;VALUE=DURATION:PT1H
X-Robots-Tag:noindex
X-PUBLISHED-TTL:PT1H
BEGIN:VTIMEZONE
TZID:Europe/London
BEGIN:DAYLIGHT
TZOFFSETFROM:+0000
TZOFFSETTO:+0100
TZNAME:BST
DTSTART:20230326T010000
END:DAYLIGHT
BEGIN:STANDARD
TZOFFSETFROM:+0100
TZOFFSETTO:+0000
TZNAME:GMT
DTSTART:20231029T010000
END:STANDARD
BEGIN:DAYLIGHT
TZOFFSETFROM:+0000
TZOFFSETTO:+0100
TZNAME:BST
DTSTART:20240331T010000
END:DAYLIGHT
BEGIN:STANDARD
TZOFFSETFROM:+0100
TZOFFSETTO:+0000
TZNAME:GMT
DTSTART:20241027T010000
END:STANDARD
BEGIN:DAYLIGHT
TZOFFSETFROM:+0000
TZOFFSETTO:+0100
TZNAME:BST
DTSTART:20250330T010000
END:DAYLIGHT
BEGIN:STANDARD
TZOFFSETFROM:+0100
TZOFFSETTO:+0000
TZNAME:GMT
DTSTART:20251026T010000
END:STANDARD
END:VTIMEZONE
BEGIN:VEVENT
DTSTART;TZID=Europe/London:20240604T080000
DTEND;TZID=Europe/London:20240604T120000
DTSTAMP:20260425T141611
CREATED:20240514T125849Z
LAST-MODIFIED:20240514T125849Z
UID:1870-1717488000-1717502400@bonsallvillagehall.org.uk
SUMMARY:Art Group
DESCRIPTION:
URL:https://bonsallvillagehall.org.uk/event/art-group-51/
LOCATION:Downstairs
END:VEVENT
BEGIN:VEVENT
DTSTART;TZID=Europe/London:20240611T080000
DTEND;TZID=Europe/London:20240611T120000
DTSTAMP:20260425T141611
CREATED:20240514T125914Z
LAST-MODIFIED:20240514T125914Z
UID:1872-1718092800-1718107200@bonsallvillagehall.org.uk
SUMMARY:Art Group
DESCRIPTION:
URL:https://bonsallvillagehall.org.uk/event/art-group-52/
LOCATION:Downstairs
END:VEVENT
BEGIN:VEVENT
DTSTART;TZID=Europe/London:20240611T180000
DTEND;TZID=Europe/London:20240611T220000
DTSTAMP:20260425T141611
CREATED:20240608T202927Z
LAST-MODIFIED:20240608T202927Z
UID:1908-1718128800-1718143200@bonsallvillagehall.org.uk
SUMMARY:Bonsall Energy Group
DESCRIPTION:
URL:https://bonsallvillagehall.org.uk/event/bonsall-energy-group-3/
LOCATION:Both floors
END:VEVENT
BEGIN:VEVENT
DTSTART;TZID=Europe/London:20240612T080000
DTEND;TZID=Europe/London:20240612T170000
DTSTAMP:20260425T141611
CREATED:20240521T181718Z
LAST-MODIFIED:20240521T181718Z
UID:1886-1718179200-1718211600@bonsallvillagehall.org.uk
SUMMARY:Village Hall Maintenance
DESCRIPTION:
URL:https://bonsallvillagehall.org.uk/event/village-hall-maintenance/
LOCATION:Both floors
END:VEVENT
BEGIN:VEVENT
DTSTART;TZID=Europe/London:20240613T080000
DTEND;TZID=Europe/London:20240613T170000
DTSTAMP:20260425T141611
CREATED:20240521T181747Z
LAST-MODIFIED:20240521T181747Z
UID:1888-1718265600-1718298000@bonsallvillagehall.org.uk
SUMMARY:Village Hall Maintenance
DESCRIPTION:
URL:https://bonsallvillagehall.org.uk/event/village-hall-maintenance-2/
LOCATION:Both floors
END:VEVENT
BEGIN:VEVENT
DTSTART;TZID=Europe/London:20240615T180000
DTEND;TZID=Europe/London:20240615T230000
DTSTAMP:20260425T141611
CREATED:20240514T130531Z
LAST-MODIFIED:20240522T170421Z
UID:1883-1718474400-1718492400@bonsallvillagehall.org.uk
SUMMARY:Pudding  and Quiz Night
DESCRIPTION:  \nFor tickets\, click on link below or use the QR code. \nhttps://www.ticketsource.co.uk/booking/t-qjklmkg
URL:https://bonsallvillagehall.org.uk/event/quiz-and-pudding-night/
LOCATION:Both floors
END:VEVENT
BEGIN:VEVENT
DTSTART;TZID=Europe/London:20240618T080000
DTEND;TZID=Europe/London:20240618T120000
DTSTAMP:20260425T141611
CREATED:20240514T125940Z
LAST-MODIFIED:20240514T125940Z
UID:1874-1718697600-1718712000@bonsallvillagehall.org.uk
SUMMARY:Art Group
DESCRIPTION:
URL:https://bonsallvillagehall.org.uk/event/art-group-68/
LOCATION:Downstairs
END:VEVENT
BEGIN:VEVENT
DTSTART;TZID=Europe/London:20240618T193000
DTEND;TZID=Europe/London:20240618T213000
DTSTAMP:20260425T141611
CREATED:20240624T201024Z
LAST-MODIFIED:20240624T201024Z
UID:1926-1718739000-1718746200@bonsallvillagehall.org.uk
SUMMARY:Bonsall Parish Council Meeting
DESCRIPTION:
URL:https://bonsallvillagehall.org.uk/event/bonsall-parish-council-meeting/
LOCATION:Both floors
END:VEVENT
BEGIN:VEVENT
DTSTART;TZID=Europe/London:20240619T100000
DTEND;TZID=Europe/London:20240619T150000
DTSTAMP:20260425T141611
CREATED:20240103T135127Z
LAST-MODIFIED:20240103T135127Z
UID:1701-1718791200-1718809200@bonsallvillagehall.org.uk
SUMMARY:Lunch Club
DESCRIPTION:
URL:https://bonsallvillagehall.org.uk/event/lunch-club-21/
LOCATION:Downstairs
END:VEVENT
BEGIN:VEVENT
DTSTART;TZID=Europe/London:20240622T080000
DTEND;TZID=Europe/London:20240622T170000
DTSTAMP:20260425T141611
CREATED:20240514T125117Z
LAST-MODIFIED:20240514T125117Z
UID:1852-1719043200-1719075600@bonsallvillagehall.org.uk
SUMMARY:Wirksworth Heritage Centre
DESCRIPTION:Contact is Gordon
URL:https://bonsallvillagehall.org.uk/event/wirksworth-heritage-centre/
LOCATION:Downstairs
END:VEVENT
BEGIN:VEVENT
DTSTART;TZID=Europe/London:20240624T180000
DTEND;TZID=Europe/London:20240624T220000
DTSTAMP:20260425T141611
CREATED:20240514T124930Z
LAST-MODIFIED:20240514T124930Z
UID:1850-1719252000-1719266400@bonsallvillagehall.org.uk
SUMMARY:Leavers Group
DESCRIPTION:
URL:https://bonsallvillagehall.org.uk/event/leavers-group-11/
LOCATION:Downstairs
END:VEVENT
BEGIN:VEVENT
DTSTART;TZID=Europe/London:20240625T080000
DTEND;TZID=Europe/London:20240625T120000
DTSTAMP:20260425T141611
CREATED:20240514T130155Z
LAST-MODIFIED:20240514T130155Z
UID:1878-1719302400-1719316800@bonsallvillagehall.org.uk
SUMMARY:Art Group
DESCRIPTION:
URL:https://bonsallvillagehall.org.uk/event/art-group-48/
LOCATION:Downstairs
END:VEVENT
BEGIN:VEVENT
DTSTART;VALUE=DATE:20240628
DTEND;VALUE=DATE:20240701
DTSTAMP:20260425T141611
CREATED:20231203T114721Z
LAST-MODIFIED:20231203T114721Z
UID:1677-1719532800-1719791999@bonsallvillagehall.org.uk
SUMMARY:Arts Trail
DESCRIPTION:
URL:https://bonsallvillagehall.org.uk/event/arts-trail-3/
LOCATION:Both floors
END:VEVENT
BEGIN:VEVENT
DTSTART;VALUE=DATE:20240628
DTEND;VALUE=DATE:20240701
DTSTAMP:20260425T141611
CREATED:20240222T184205Z
LAST-MODIFIED:20240222T184205Z
UID:1774-1719532800-1719791999@bonsallvillagehall.org.uk
SUMMARY:Bonsall Arts Trail
DESCRIPTION:
URL:https://bonsallvillagehall.org.uk/event/bonsall-arts-trail/
LOCATION:Both floors
END:VEVENT
END:VCALENDAR