BEGIN:VCALENDAR
VERSION:2.0
PRODID:-//Bonsall Village Hall - ECPv6.15.20//NONSGML v1.0//EN
CALSCALE:GREGORIAN
METHOD:PUBLISH
X-WR-CALNAME:Bonsall Village Hall
X-ORIGINAL-URL:https://bonsallvillagehall.org.uk
X-WR-CALDESC:Events for Bonsall Village Hall
REFRESH-INTERVAL;VALUE=DURATION:PT1H
X-Robots-Tag:noindex
X-PUBLISHED-TTL:PT1H
BEGIN:VTIMEZONE
TZID:Europe/London
BEGIN:DAYLIGHT
TZOFFSETFROM:+0000
TZOFFSETTO:+0100
TZNAME:BST
DTSTART:20230326T010000
END:DAYLIGHT
BEGIN:STANDARD
TZOFFSETFROM:+0100
TZOFFSETTO:+0000
TZNAME:GMT
DTSTART:20231029T010000
END:STANDARD
BEGIN:DAYLIGHT
TZOFFSETFROM:+0000
TZOFFSETTO:+0100
TZNAME:BST
DTSTART:20240331T010000
END:DAYLIGHT
BEGIN:STANDARD
TZOFFSETFROM:+0100
TZOFFSETTO:+0000
TZNAME:GMT
DTSTART:20241027T010000
END:STANDARD
BEGIN:DAYLIGHT
TZOFFSETFROM:+0000
TZOFFSETTO:+0100
TZNAME:BST
DTSTART:20250330T010000
END:DAYLIGHT
BEGIN:STANDARD
TZOFFSETFROM:+0100
TZOFFSETTO:+0000
TZNAME:GMT
DTSTART:20251026T010000
END:STANDARD
END:VTIMEZONE
BEGIN:VEVENT
DTSTART;TZID=Europe/London:20240404T090000
DTEND;TZID=Europe/London:20240404T150000
DTSTAMP:20260425T174000
CREATED:20240326T162349Z
LAST-MODIFIED:20240326T162349Z
UID:1819-1712221200-1712242800@bonsallvillagehall.org.uk
SUMMARY:Musical Theatre - MJs Holiday Club
DESCRIPTION:
URL:https://bonsallvillagehall.org.uk/event/musical-theatre-mjs-holiday-club/
LOCATION:Downstairs
END:VEVENT
BEGIN:VEVENT
DTSTART;TZID=Europe/London:20240409T080000
DTEND;TZID=Europe/London:20240409T120000
DTSTAMP:20260425T174000
CREATED:20240514T125452Z
LAST-MODIFIED:20240514T125452Z
UID:1854-1712649600-1712664000@bonsallvillagehall.org.uk
SUMMARY:Art Club
DESCRIPTION:
URL:https://bonsallvillagehall.org.uk/event/art-club-13/
LOCATION:Downstairs
END:VEVENT
BEGIN:VEVENT
DTSTART;TZID=Europe/London:20240412T180000
DTEND;TZID=Europe/London:20240412T230000
DTSTAMP:20260425T174000
CREATED:20240222T174913Z
LAST-MODIFIED:20240222T175137Z
UID:1763-1712944800-1712962800@bonsallvillagehall.org.uk
SUMMARY:Panto After Party
DESCRIPTION:
URL:https://bonsallvillagehall.org.uk/event/panto-after-party/
LOCATION:Downstairs
END:VEVENT
BEGIN:VEVENT
DTSTART;TZID=Europe/London:20240416T080000
DTEND;TZID=Europe/London:20240416T120000
DTSTAMP:20260425T174000
CREATED:20240514T125525Z
LAST-MODIFIED:20240514T125525Z
UID:1856-1713254400-1713268800@bonsallvillagehall.org.uk
SUMMARY:Art Club
DESCRIPTION:
URL:https://bonsallvillagehall.org.uk/event/art-club-14/
LOCATION:Downstairs
END:VEVENT
BEGIN:VEVENT
DTSTART;TZID=Europe/London:20240416T190000
DTEND;TZID=Europe/London:20240416T220000
DTSTAMP:20260425T174000
CREATED:20230528T200212Z
LAST-MODIFIED:20230528T200212Z
UID:1534-1713294000-1713304800@bonsallvillagehall.org.uk
SUMMARY:Parish Council meeting
DESCRIPTION:
URL:https://bonsallvillagehall.org.uk/event/parish-council-meeting-11/
LOCATION:Downstairs
END:VEVENT
BEGIN:VEVENT
DTSTART;TZID=Europe/London:20240417T100000
DTEND;TZID=Europe/London:20240417T150000
DTSTAMP:20260425T174000
CREATED:20240103T135010Z
LAST-MODIFIED:20240103T135010Z
UID:1697-1713348000-1713366000@bonsallvillagehall.org.uk
SUMMARY:Lunch Club
DESCRIPTION:
URL:https://bonsallvillagehall.org.uk/event/lunch-club-19/
LOCATION:Downstairs
END:VEVENT
BEGIN:VEVENT
DTSTART;TZID=Europe/London:20240419T180000
DTEND;TZID=Europe/London:20240419T230000
DTSTAMP:20260425T174000
CREATED:20240318T162142Z
LAST-MODIFIED:20240318T162142Z
UID:1808-1713549600-1713567600@bonsallvillagehall.org.uk
SUMMARY:Nepal Evening
DESCRIPTION:
URL:https://bonsallvillagehall.org.uk/event/nepal-evening/
LOCATION:Both floors
END:VEVENT
BEGIN:VEVENT
DTSTART;VALUE=DATE:20240422
DTEND;VALUE=DATE:20240429
DTSTAMP:20260425T174000
CREATED:20240405T195804Z
LAST-MODIFIED:20240405T195804Z
UID:1827-1713744000-1714348799@bonsallvillagehall.org.uk
SUMMARY:Floor maintenance works - no bookings
DESCRIPTION:
URL:https://bonsallvillagehall.org.uk/event/floor-maintenance-works-no-bookings/
LOCATION:Upstairs
END:VEVENT
BEGIN:VEVENT
DTSTART;TZID=Europe/London:20240422T180000
DTEND;TZID=Europe/London:20240422T230000
DTSTAMP:20260425T174000
CREATED:20240405T195404Z
LAST-MODIFIED:20240405T195404Z
UID:1823-1713808800-1713826800@bonsallvillagehall.org.uk
SUMMARY:Leavers Group
DESCRIPTION:
URL:https://bonsallvillagehall.org.uk/event/leavers-group-9/
LOCATION:Downstairs
END:VEVENT
BEGIN:VEVENT
DTSTART;TZID=Europe/London:20240423T080000
DTEND;TZID=Europe/London:20240423T120000
DTSTAMP:20260425T174000
CREATED:20240514T125610Z
LAST-MODIFIED:20240514T125610Z
UID:1858-1713859200-1713873600@bonsallvillagehall.org.uk
SUMMARY:Art Group
DESCRIPTION:
URL:https://bonsallvillagehall.org.uk/event/art-group-45/
LOCATION:Downstairs
END:VEVENT
BEGIN:VEVENT
DTSTART;TZID=Europe/London:20240430T080000
DTEND;TZID=Europe/London:20240430T120000
DTSTAMP:20260425T174000
CREATED:20240514T125642Z
LAST-MODIFIED:20240514T125642Z
UID:1860-1714464000-1714478400@bonsallvillagehall.org.uk
SUMMARY:Art Group
DESCRIPTION:
URL:https://bonsallvillagehall.org.uk/event/art-group-46/
LOCATION:Downstairs
END:VEVENT
END:VCALENDAR