BEGIN:VCALENDAR
VERSION:2.0
PRODID:-//Bonsall Village Hall - ECPv6.15.20//NONSGML v1.0//EN
CALSCALE:GREGORIAN
METHOD:PUBLISH
X-ORIGINAL-URL:https://bonsallvillagehall.org.uk
X-WR-CALDESC:Events for Bonsall Village Hall
REFRESH-INTERVAL;VALUE=DURATION:PT1H
X-Robots-Tag:noindex
X-PUBLISHED-TTL:PT1H
BEGIN:VTIMEZONE
TZID:Europe/London
BEGIN:DAYLIGHT
TZOFFSETFROM:+0000
TZOFFSETTO:+0100
TZNAME:BST
DTSTART:20230326T010000
END:DAYLIGHT
BEGIN:STANDARD
TZOFFSETFROM:+0100
TZOFFSETTO:+0000
TZNAME:GMT
DTSTART:20231029T010000
END:STANDARD
BEGIN:DAYLIGHT
TZOFFSETFROM:+0000
TZOFFSETTO:+0100
TZNAME:BST
DTSTART:20240331T010000
END:DAYLIGHT
BEGIN:STANDARD
TZOFFSETFROM:+0100
TZOFFSETTO:+0000
TZNAME:GMT
DTSTART:20241027T010000
END:STANDARD
BEGIN:DAYLIGHT
TZOFFSETFROM:+0000
TZOFFSETTO:+0100
TZNAME:BST
DTSTART:20250330T010000
END:DAYLIGHT
BEGIN:STANDARD
TZOFFSETFROM:+0100
TZOFFSETTO:+0000
TZNAME:GMT
DTSTART:20251026T010000
END:STANDARD
END:VTIMEZONE
BEGIN:VEVENT
DTSTART;TZID=Europe/London:20240105T120000
DTEND;TZID=Europe/London:20240105T180000
DTSTAMP:20260425T220707
CREATED:20240103T133803Z
LAST-MODIFIED:20240103T134456Z
UID:1685-1704456000-1704477600@bonsallvillagehall.org.uk
SUMMARY:Private booking
DESCRIPTION:
URL:https://bonsallvillagehall.org.uk/event/lunch-club-15/
LOCATION:Downstairs
END:VEVENT
BEGIN:VEVENT
DTSTART;TZID=Europe/London:20240105T120000
DTEND;TZID=Europe/London:20240105T180000
DTSTAMP:20260425T220707
CREATED:20240103T135717Z
LAST-MODIFIED:20240103T135717Z
UID:1719-1704456000-1704477600@bonsallvillagehall.org.uk
SUMMARY:Private booking
DESCRIPTION:
URL:https://bonsallvillagehall.org.uk/event/private-booking-4/
LOCATION:Downstairs
END:VEVENT
BEGIN:VEVENT
DTSTART;TZID=Europe/London:20240109T080000
DTEND;TZID=Europe/London:20240109T120000
DTSTAMP:20260425T220707
CREATED:20240110T172152Z
LAST-MODIFIED:20240110T172152Z
UID:1721-1704787200-1704801600@bonsallvillagehall.org.uk
SUMMARY:Art Club
DESCRIPTION:
URL:https://bonsallvillagehall.org.uk/event/art-club/
LOCATION:Downstairs
END:VEVENT
BEGIN:VEVENT
DTSTART;TZID=Europe/London:20240115T180000
DTEND;TZID=Europe/London:20240115T230000
DTSTAMP:20260425T220707
CREATED:20240103T135637Z
LAST-MODIFIED:20240103T135637Z
UID:1717-1705341600-1705359600@bonsallvillagehall.org.uk
SUMMARY:Leavers Group
DESCRIPTION:
URL:https://bonsallvillagehall.org.uk/event/leavers-group-7/
LOCATION:Downstairs
END:VEVENT
BEGIN:VEVENT
DTSTART;TZID=Europe/London:20240116T080000
DTEND;TZID=Europe/London:20240116T120000
DTSTAMP:20260425T220707
CREATED:20240110T172223Z
LAST-MODIFIED:20240110T172223Z
UID:1723-1705392000-1705406400@bonsallvillagehall.org.uk
SUMMARY:Art Club
DESCRIPTION:
URL:https://bonsallvillagehall.org.uk/event/art-club-2/
LOCATION:Downstairs
END:VEVENT
BEGIN:VEVENT
DTSTART;TZID=Europe/London:20240116T190000
DTEND;TZID=Europe/London:20240116T220000
DTSTAMP:20260425T220707
CREATED:20230528T195859Z
LAST-MODIFIED:20230528T195859Z
UID:1528-1705431600-1705442400@bonsallvillagehall.org.uk
SUMMARY:Parish Council Meeting
DESCRIPTION:
URL:https://bonsallvillagehall.org.uk/event/parish-council-meeting-8/
LOCATION:Downstairs
END:VEVENT
BEGIN:VEVENT
DTSTART;TZID=Europe/London:20240117T100000
DTEND;TZID=Europe/London:20240117T150000
DTSTAMP:20260425T220707
CREATED:20240103T134732Z
LAST-MODIFIED:20240103T134732Z
UID:1691-1705485600-1705503600@bonsallvillagehall.org.uk
SUMMARY:Lunch Club
DESCRIPTION:
URL:https://bonsallvillagehall.org.uk/event/lunch-club-16/
LOCATION:Downstairs
END:VEVENT
BEGIN:VEVENT
DTSTART;TZID=Europe/London:20240123T080000
DTEND;TZID=Europe/London:20240123T120000
DTSTAMP:20260425T220707
CREATED:20240110T172258Z
LAST-MODIFIED:20240110T172258Z
UID:1725-1705996800-1706011200@bonsallvillagehall.org.uk
SUMMARY:Art Club
DESCRIPTION:
URL:https://bonsallvillagehall.org.uk/event/art-club-3/
LOCATION:Downstairs
END:VEVENT
BEGIN:VEVENT
DTSTART;TZID=Europe/London:20240126T080000
DTEND;TZID=Europe/London:20240126T120000
DTSTAMP:20260425T220707
CREATED:20231203T114333Z
LAST-MODIFIED:20231203T114333Z
UID:1667-1706256000-1706270400@bonsallvillagehall.org.uk
SUMMARY:Parish Council Meeting
DESCRIPTION:
URL:https://bonsallvillagehall.org.uk/event/parish-council-meeting-13/
LOCATION:Downstairs
END:VEVENT
BEGIN:VEVENT
DTSTART;TZID=Europe/London:20240130T080000
DTEND;TZID=Europe/London:20240130T120000
DTSTAMP:20260425T220707
CREATED:20240110T172326Z
LAST-MODIFIED:20240110T172326Z
UID:1727-1706601600-1706616000@bonsallvillagehall.org.uk
SUMMARY:Art Club
DESCRIPTION:
URL:https://bonsallvillagehall.org.uk/event/art-club-4/
LOCATION:Downstairs
END:VEVENT
END:VCALENDAR